BEGIN:VCALENDAR
VERSION:2.0
PRODID:-//bogatibodega.com - ECPv6.8.2.1//NONSGML v1.0//EN
CALSCALE:GREGORIAN
METHOD:PUBLISH
X-WR-CALNAME:bogatibodega.com
X-ORIGINAL-URL:https://bogatibodega.com
X-WR-CALDESC:Events for bogatibodega.com
REFRESH-INTERVAL;VALUE=DURATION:PT1H
X-Robots-Tag:noindex
X-PUBLISHED-TTL:PT1H
BEGIN:VTIMEZONE
TZID:UTC
BEGIN:STANDARD
TZOFFSETFROM:+0000
TZOFFSETTO:+0000
TZNAME:UTC
DTSTART:20250101T000000
END:STANDARD
END:VTIMEZONE
BEGIN:VEVENT
DTSTART;TZID=UTC:20250222T140000
DTEND;TZID=UTC:20250222T150000
DTSTAMP:20260423T140501
CREATED:20250107T211039Z
LAST-MODIFIED:20250107T211039Z
UID:1814-1740232800-1740236400@bogatibodega.com
SUMMARY:Malbec Showdown
DESCRIPTION:Malbec Showdown: A Guided Wine CompetitionExperience the Ultimate Malbec Showdown!Join us for a fun and educational guided Malbec Wine Competition hosted by Bogati Winery’s owner\, James Bogaty.\nEnjoy an exclusive 1-hour experience in our Private Enoteca Room starting at 2 PM on Saturday\, February 22nd\, where you’ll:\nCompare and taste parallel Malbec winesJudge and discuss your favoritesCrown the wine you love mostWhether you’re a wine connoisseur or simply enjoy a good glass of Malbec\, this private experience is perfect for you!\nTickets: $25 per personPrepaid reservations are required—space is limited\, so book now!
URL:https://bogatibodega.com/event/malbec-showdown/
ATTACH;FMTTYPE=image/png:https://bogatibodega.com/wp-content/uploads/2025/01/jim2.png
END:VEVENT
END:VCALENDAR